BEGIN:VCALENDAR
VERSION:2.0
PRODID:-//Chris-Inn - ECPv6.15.15//NONSGML v1.0//EN
CALSCALE:GREGORIAN
METHOD:PUBLISH
X-WR-CALNAME:Chris-Inn
X-ORIGINAL-URL:https://chrisinn.de
X-WR-CALDESC:Veranstaltungen für Chris-Inn
REFRESH-INTERVAL;VALUE=DURATION:PT1H
X-Robots-Tag:noindex
X-PUBLISHED-TTL:PT1H
BEGIN:VTIMEZONE
TZID:Europe/Berlin
BEGIN:DAYLIGHT
TZOFFSETFROM:+0100
TZOFFSETTO:+0200
TZNAME:CEST
DTSTART:20220327T010000
END:DAYLIGHT
BEGIN:STANDARD
TZOFFSETFROM:+0200
TZOFFSETTO:+0100
TZNAME:CET
DTSTART:20221030T010000
END:STANDARD
BEGIN:DAYLIGHT
TZOFFSETFROM:+0100
TZOFFSETTO:+0200
TZNAME:CEST
DTSTART:20230326T010000
END:DAYLIGHT
BEGIN:STANDARD
TZOFFSETFROM:+0200
TZOFFSETTO:+0100
TZNAME:CET
DTSTART:20231029T010000
END:STANDARD
BEGIN:DAYLIGHT
TZOFFSETFROM:+0100
TZOFFSETTO:+0200
TZNAME:CEST
DTSTART:20240331T010000
END:DAYLIGHT
BEGIN:STANDARD
TZOFFSETFROM:+0200
TZOFFSETTO:+0100
TZNAME:CET
DTSTART:20241027T010000
END:STANDARD
END:VTIMEZONE
BEGIN:VEVENT
DTSTART;TZID=Europe/Berlin:20230401T210000
DTEND;TZID=Europe/Berlin:20230401T235900
DTSTAMP:20260424T203334
CREATED:20230203T091013Z
LAST-MODIFIED:20230203T091013Z
UID:8044-1680382800-1680393540@chrisinn.de
SUMMARY:Mr. Nice Guy unplugged
DESCRIPTION:Mr. Nice Guy unplugged Oldie & more\nEinlass: 19:00 Uhr\nBeginn: 21:00 Uhr \nEintritt: FREE!
URL:https://chrisinn.de/event/mr-nice-guy-unplugged/
CATEGORIES:LiveMusik
END:VEVENT
END:VCALENDAR