BEGIN:VCALENDAR
VERSION:2.0
PRODID:-//Chris-Inn - ECPv6.15.15//NONSGML v1.0//EN
CALSCALE:GREGORIAN
METHOD:PUBLISH
X-ORIGINAL-URL:https://chrisinn.de
X-WR-CALDESC:Veranstaltungen für Chris-Inn
REFRESH-INTERVAL;VALUE=DURATION:PT1H
X-Robots-Tag:noindex
X-PUBLISHED-TTL:PT1H
BEGIN:VTIMEZONE
TZID:Europe/Berlin
BEGIN:DAYLIGHT
TZOFFSETFROM:+0100
TZOFFSETTO:+0200
TZNAME:CEST
DTSTART:20220327T010000
END:DAYLIGHT
BEGIN:STANDARD
TZOFFSETFROM:+0200
TZOFFSETTO:+0100
TZNAME:CET
DTSTART:20221030T010000
END:STANDARD
BEGIN:DAYLIGHT
TZOFFSETFROM:+0100
TZOFFSETTO:+0200
TZNAME:CEST
DTSTART:20230326T010000
END:DAYLIGHT
BEGIN:STANDARD
TZOFFSETFROM:+0200
TZOFFSETTO:+0100
TZNAME:CET
DTSTART:20231029T010000
END:STANDARD
BEGIN:DAYLIGHT
TZOFFSETFROM:+0100
TZOFFSETTO:+0200
TZNAME:CEST
DTSTART:20240331T010000
END:DAYLIGHT
BEGIN:STANDARD
TZOFFSETFROM:+0200
TZOFFSETTO:+0100
TZNAME:CET
DTSTART:20241027T010000
END:STANDARD
END:VTIMEZONE
BEGIN:VEVENT
DTSTART;TZID=Europe/Berlin:20230317T200000
DTEND;TZID=Europe/Berlin:20230317T235900
DTSTAMP:20260424T215218
CREATED:20230203T084417Z
LAST-MODIFIED:20230203T100942Z
UID:8038-1679083200-1679097540@chrisinn.de
SUMMARY:St. Patrick´s Day mit "Clonmac Noise"
DESCRIPTION:St. Patrick´s Day mit „Clonmac Noise“\nEinlass: 18:00 Uhr\nBeginn: 20:00 Uhr \nEintritt: 10\,00 €
URL:https://chrisinn.de/event/st-patricks-day-mit-clonmac-noise-3/
CATEGORIES:LiveMusik
ATTACH;FMTTYPE=image/jpeg:https://chrisinn.de/wp-content/uploads/2023/02/35f2b976-d37c-4bd0-815b-fb1fd8dfe184.jpg
END:VEVENT
END:VCALENDAR