BEGIN:VCALENDAR
VERSION:2.0
PRODID:-//Chris-Inn - ECPv6.15.15//NONSGML v1.0//EN
CALSCALE:GREGORIAN
METHOD:PUBLISH
X-WR-CALNAME:Chris-Inn
X-ORIGINAL-URL:https://chrisinn.de
X-WR-CALDESC:Veranstaltungen für Chris-Inn
REFRESH-INTERVAL;VALUE=DURATION:PT1H
X-Robots-Tag:noindex
X-PUBLISHED-TTL:PT1H
BEGIN:VTIMEZONE
TZID:Europe/Berlin
BEGIN:DAYLIGHT
TZOFFSETFROM:+0100
TZOFFSETTO:+0200
TZNAME:CEST
DTSTART:20220327T010000
END:DAYLIGHT
BEGIN:STANDARD
TZOFFSETFROM:+0200
TZOFFSETTO:+0100
TZNAME:CET
DTSTART:20221030T010000
END:STANDARD
BEGIN:DAYLIGHT
TZOFFSETFROM:+0100
TZOFFSETTO:+0200
TZNAME:CEST
DTSTART:20230326T010000
END:DAYLIGHT
BEGIN:STANDARD
TZOFFSETFROM:+0200
TZOFFSETTO:+0100
TZNAME:CET
DTSTART:20231029T010000
END:STANDARD
BEGIN:DAYLIGHT
TZOFFSETFROM:+0100
TZOFFSETTO:+0200
TZNAME:CEST
DTSTART:20240331T010000
END:DAYLIGHT
BEGIN:STANDARD
TZOFFSETFROM:+0200
TZOFFSETTO:+0100
TZNAME:CET
DTSTART:20241027T010000
END:STANDARD
END:VTIMEZONE
BEGIN:VEVENT
DTSTART;TZID=Europe/Berlin:20230206T183000
DTEND;TZID=Europe/Berlin:20230206T220000
DTSTAMP:20260424T231913
CREATED:20230123T105921Z
LAST-MODIFIED:20230123T105921Z
UID:7969-1675708200-1675720800@chrisinn.de
SUMMARY:Whisk(e)y Tasting
DESCRIPTION:Motto: Whisk(e)y Adventure\nfrom Celtic to Celtic \nEintritt: 5\,00 €\nEinlass: 18:30 Uhr\nBeginn: 19:00 Uhr \nPay what you drink!!! \nIn der Pause kann man ein „Dublin Cuddle“ bestellen! \nVortrag in Wort und Bild von Brian Hunt
URL:https://chrisinn.de/event/whiskey-tasting/
CATEGORIES:Sonstiges,Verkostung,Vorträge
END:VEVENT
BEGIN:VEVENT
DTSTART;TZID=Europe/Berlin:20230218T210000
DTEND;TZID=Europe/Berlin:20230218T235900
DTSTAMP:20260424T231913
CREATED:20230203T083932Z
LAST-MODIFIED:20230203T083932Z
UID:8025-1676754000-1676764740@chrisinn.de
SUMMARY:"Chris" allein zu Haus!
DESCRIPTION:Oldies & more\nBeginn: 21:00 Uhr\nEintritt: FREE
URL:https://chrisinn.de/event/chris-allein-zu-haus/
CATEGORIES:LiveMusik
END:VEVENT
END:VCALENDAR