BEGIN:VCALENDAR
VERSION:2.0
PRODID:-//Chris-Inn - ECPv6.15.15//NONSGML v1.0//EN
CALSCALE:GREGORIAN
METHOD:PUBLISH
X-WR-CALNAME:Chris-Inn
X-ORIGINAL-URL:https://chrisinn.de
X-WR-CALDESC:Veranstaltungen für Chris-Inn
REFRESH-INTERVAL;VALUE=DURATION:PT1H
X-Robots-Tag:noindex
X-PUBLISHED-TTL:PT1H
BEGIN:VTIMEZONE
TZID:Europe/Berlin
BEGIN:DAYLIGHT
TZOFFSETFROM:+0100
TZOFFSETTO:+0200
TZNAME:CEST
DTSTART:20210328T010000
END:DAYLIGHT
BEGIN:STANDARD
TZOFFSETFROM:+0200
TZOFFSETTO:+0100
TZNAME:CET
DTSTART:20211031T010000
END:STANDARD
BEGIN:DAYLIGHT
TZOFFSETFROM:+0100
TZOFFSETTO:+0200
TZNAME:CEST
DTSTART:20220327T010000
END:DAYLIGHT
BEGIN:STANDARD
TZOFFSETFROM:+0200
TZOFFSETTO:+0100
TZNAME:CET
DTSTART:20221030T010000
END:STANDARD
BEGIN:DAYLIGHT
TZOFFSETFROM:+0100
TZOFFSETTO:+0200
TZNAME:CEST
DTSTART:20230326T010000
END:DAYLIGHT
BEGIN:STANDARD
TZOFFSETFROM:+0200
TZOFFSETTO:+0100
TZNAME:CET
DTSTART:20231029T010000
END:STANDARD
END:VTIMEZONE
BEGIN:VEVENT
DTSTART;TZID=Europe/Berlin:20221001T200000
DTEND;TZID=Europe/Berlin:20221001T235900
DTSTAMP:20260425T050240
CREATED:20220930T112413Z
LAST-MODIFIED:20220930T112413Z
UID:7910-1664654400-1664668740@chrisinn.de
SUMMARY:Livemusik mit Robin Kap
DESCRIPTION:Beginn: 20:00 Uhr\nEintritt: FREI! \nInfo\nMusiker aus Wolfsburg\n50er | 60er | 70er | 80er | 90er | Rock | Pop \nGeschichte \nMoin! \nIch bin Robin…ein Musiker aus Wolfsburg\, der dich mit seiner Gitarre auf eine kleine musikalische Zeitreise mitnehmen möchte. Egal ob Johnny Cash\, Backstreet Boys oder Country Roads…ich hab Sie (fast) alle! 🙂 \nFür einen lustigen Abend ist mit Sicherheit für jeden etwas dabei. Meine Setlist wächst ständig. Schau doch einfach mal rein! 😉 \nhttps://open.spotify.com/user/robin.kapahnke/playlist/1amil0YD9HrNcnHC1Vxji5
URL:https://chrisinn.de/event/livemusik-mit-robin-kap-2/
CATEGORIES:LiveMusik
ATTACH;FMTTYPE=image/jpeg:https://chrisinn.de/wp-content/uploads/2022/09/Robin.jpg
END:VEVENT
BEGIN:VEVENT
DTSTART;TZID=Europe/Berlin:20221017T183000
DTEND;TZID=Europe/Berlin:20221017T223000
DTSTAMP:20260425T050240
CREATED:20220930T113057Z
LAST-MODIFIED:20220930T113057Z
UID:7916-1666031400-1666045800@chrisinn.de
SUMMARY:Whiskey tasting mit Brian Hunt
DESCRIPTION:Brits VS Paddy´s \nVortrag in Wort und Bild mit Brian Hunt \nYou pay what you drink!!! \nIrish Stew \nEintritt: 5\,00€
URL:https://chrisinn.de/event/whiskey-tasting-mit-brian-hunt/
CATEGORIES:Verkostung
ATTACH;FMTTYPE=image/jpeg:https://chrisinn.de/wp-content/uploads/2022/09/Whiskey-Tasting.jpg
END:VEVENT
BEGIN:VEVENT
DTSTART;TZID=Europe/Berlin:20221030T190000
DTEND;TZID=Europe/Berlin:20221030T235900
DTSTAMP:20260425T050240
CREATED:20220930T113522Z
LAST-MODIFIED:20220930T113522Z
UID:7919-1667156400-1667174340@chrisinn.de
SUMMARY:Halloween Party
DESCRIPTION:Livemusik mit den Evergreen Brothers \nKürbissuppe \nIrish Stew \nGuinness \nEinlass: 19:00 Uhr\nEintritt: 10\,00 €
URL:https://chrisinn.de/event/halloween-party/
CATEGORIES:Sonstiges
ATTACH;FMTTYPE=image/jpeg:https://chrisinn.de/wp-content/uploads/2022/09/Whiskey-Tasting-1-e1664537699633.jpg
END:VEVENT
END:VCALENDAR