BEGIN:VCALENDAR
VERSION:2.0
PRODID:-//Chris-Inn - ECPv6.15.15//NONSGML v1.0//EN
CALSCALE:GREGORIAN
METHOD:PUBLISH
X-ORIGINAL-URL:https://chrisinn.de
X-WR-CALDESC:Veranstaltungen für Chris-Inn
REFRESH-INTERVAL;VALUE=DURATION:PT1H
X-Robots-Tag:noindex
X-PUBLISHED-TTL:PT1H
BEGIN:VTIMEZONE
TZID:Europe/Berlin
BEGIN:DAYLIGHT
TZOFFSETFROM:+0100
TZOFFSETTO:+0200
TZNAME:CEST
DTSTART:20210328T010000
END:DAYLIGHT
BEGIN:STANDARD
TZOFFSETFROM:+0200
TZOFFSETTO:+0100
TZNAME:CET
DTSTART:20211031T010000
END:STANDARD
BEGIN:DAYLIGHT
TZOFFSETFROM:+0100
TZOFFSETTO:+0200
TZNAME:CEST
DTSTART:20220327T010000
END:DAYLIGHT
BEGIN:STANDARD
TZOFFSETFROM:+0200
TZOFFSETTO:+0100
TZNAME:CET
DTSTART:20221030T010000
END:STANDARD
BEGIN:DAYLIGHT
TZOFFSETFROM:+0100
TZOFFSETTO:+0200
TZNAME:CEST
DTSTART:20230326T010000
END:DAYLIGHT
BEGIN:STANDARD
TZOFFSETFROM:+0200
TZOFFSETTO:+0100
TZNAME:CET
DTSTART:20231029T010000
END:STANDARD
END:VTIMEZONE
BEGIN:VEVENT
DTSTART;TZID=Europe/Berlin:20220910T183000
DTEND;TZID=Europe/Berlin:20220910T233000
DTSTAMP:20260425T063147
CREATED:20220909T173010Z
LAST-MODIFIED:20220909T173010Z
UID:7900-1662834600-1662852600@chrisinn.de
SUMMARY:Livemusik/Oldies and more mit Morris & Ulli
DESCRIPTION:Beginn: 18:30 Uhr\nEintritt: FREI!
URL:https://chrisinn.de/event/livemusik-oldies-and-more-mit-morris-ulli/
CATEGORIES:LiveMusik
END:VEVENT
BEGIN:VEVENT
DTSTART;TZID=Europe/Berlin:20220930T080000
DTEND;TZID=Europe/Berlin:20220930T170000
DTSTAMP:20260425T063147
CREATED:20220930T114150Z
LAST-MODIFIED:20220930T114150Z
UID:7923-1664524800-1664557200@chrisinn.de
SUMMARY:Livemusik mit Martin D. Winter
DESCRIPTION:Einlass: 19:00 Uhr\nEintritt: 5\,00 € \nBesucht ihn 🙂
URL:https://chrisinn.de/event/livemusik-mit-martin-d-winter/
CATEGORIES:LiveMusik
END:VEVENT
END:VCALENDAR