BEGIN:VCALENDAR
VERSION:2.0
PRODID:-//Chris-Inn - ECPv6.15.15//NONSGML v1.0//EN
CALSCALE:GREGORIAN
METHOD:PUBLISH
X-ORIGINAL-URL:https://chrisinn.de
X-WR-CALDESC:Veranstaltungen für Chris-Inn
REFRESH-INTERVAL;VALUE=DURATION:PT1H
X-Robots-Tag:noindex
X-PUBLISHED-TTL:PT1H
BEGIN:VTIMEZONE
TZID:Europe/Berlin
BEGIN:DAYLIGHT
TZOFFSETFROM:+0100
TZOFFSETTO:+0200
TZNAME:CEST
DTSTART:20210328T010000
END:DAYLIGHT
BEGIN:STANDARD
TZOFFSETFROM:+0200
TZOFFSETTO:+0100
TZNAME:CET
DTSTART:20211031T010000
END:STANDARD
BEGIN:DAYLIGHT
TZOFFSETFROM:+0100
TZOFFSETTO:+0200
TZNAME:CEST
DTSTART:20220327T010000
END:DAYLIGHT
BEGIN:STANDARD
TZOFFSETFROM:+0200
TZOFFSETTO:+0100
TZNAME:CET
DTSTART:20221030T010000
END:STANDARD
BEGIN:DAYLIGHT
TZOFFSETFROM:+0100
TZOFFSETTO:+0200
TZNAME:CEST
DTSTART:20230326T010000
END:DAYLIGHT
BEGIN:STANDARD
TZOFFSETFROM:+0200
TZOFFSETTO:+0100
TZNAME:CET
DTSTART:20231029T010000
END:STANDARD
END:VTIMEZONE
BEGIN:VEVENT
DTSTART;TZID=Europe/Berlin:20220430T210000
DTEND;TZID=Europe/Berlin:20220430T235900
DTSTAMP:20260425T135135
CREATED:20220424T195224Z
LAST-MODIFIED:20220428T141020Z
UID:6251-1651352400-1651363140@chrisinn.de
SUMMARY:Livemusik mit Morris Sharp (Robin Kap ist leider abgesagt)
DESCRIPTION:Eintritt: 5\,00 €\nEinlass: 19:00 Uhr\nBeginn: 21:00 Uhr \nLeider muss die Veranstaltung mit Robin Kap krankheitsbedingt abgesagt. Morris Sharp fängt den Abend musikalisch auf. Morris spielt Songs aus den 50 -70er Jahren. Für einen Part wird es sogar einen special guest geben 😉\nEvtl. schon bezahlte Karten können an diesem Abend eingelöst\, oder für einen Nachfolgetermin mit Robin behalten werden. Danke für euer Verständnis. Wir freuen uns auf einen schönen Abend! \nChris Inn und Team
URL:https://chrisinn.de/event/livemusik-mit-robin-kap/
CATEGORIES:LiveMusik,Sonstiges
ATTACH;FMTTYPE=image/jpeg:https://chrisinn.de/wp-content/uploads/2022/04/Morris1.jpg
END:VEVENT
END:VCALENDAR