BEGIN:VCALENDAR
VERSION:2.0
PRODID:-//Chris-Inn - ECPv6.15.15//NONSGML v1.0//EN
CALSCALE:GREGORIAN
METHOD:PUBLISH
X-WR-CALNAME:Chris-Inn
X-ORIGINAL-URL:https://chrisinn.de
X-WR-CALDESC:Veranstaltungen für Chris-Inn
REFRESH-INTERVAL;VALUE=DURATION:PT1H
X-Robots-Tag:noindex
X-PUBLISHED-TTL:PT1H
BEGIN:VTIMEZONE
TZID:Europe/Berlin
BEGIN:DAYLIGHT
TZOFFSETFROM:+0100
TZOFFSETTO:+0200
TZNAME:CEST
DTSTART:20210328T010000
END:DAYLIGHT
BEGIN:STANDARD
TZOFFSETFROM:+0200
TZOFFSETTO:+0100
TZNAME:CET
DTSTART:20211031T010000
END:STANDARD
BEGIN:DAYLIGHT
TZOFFSETFROM:+0100
TZOFFSETTO:+0200
TZNAME:CEST
DTSTART:20220327T010000
END:DAYLIGHT
BEGIN:STANDARD
TZOFFSETFROM:+0200
TZOFFSETTO:+0100
TZNAME:CET
DTSTART:20221030T010000
END:STANDARD
BEGIN:DAYLIGHT
TZOFFSETFROM:+0100
TZOFFSETTO:+0200
TZNAME:CEST
DTSTART:20230326T010000
END:DAYLIGHT
BEGIN:STANDARD
TZOFFSETFROM:+0200
TZOFFSETTO:+0100
TZNAME:CET
DTSTART:20231029T010000
END:STANDARD
END:VTIMEZONE
BEGIN:VEVENT
DTSTART;TZID=Europe/Berlin:20220317T200000
DTEND;TZID=Europe/Berlin:20220317T230000
DTSTAMP:20260425T152054
CREATED:20220317T151940Z
LAST-MODIFIED:20230203T084804Z
UID:5897-1647547200-1647558000@chrisinn.de
SUMMARY:St Patrick’s day mit Clonmac Noise vergangen
DESCRIPTION:AUSVERKAUFT! \nGeschlossene Veranstaltung.
URL:https://chrisinn.de/event/st-patricks-day-mit-clonmac-noise/
CATEGORIES:LiveMusik
END:VEVENT
BEGIN:VEVENT
DTSTART;TZID=Europe/Berlin:20220320T200000
DTEND;TZID=Europe/Berlin:20220320T230000
DTSTAMP:20260425T152054
CREATED:20220317T142349Z
LAST-MODIFIED:20220317T142349Z
UID:5901-1647806400-1647817200@chrisinn.de
SUMMARY:Freedomsday mit den Evergreen Brothers AUSVERKAUFT!
DESCRIPTION:AUSVERKAUFT!\nGeschlossene Veranstaltung.
URL:https://chrisinn.de/event/freedomsday-mit-den-evergreen-brothers-ausverkauft/
CATEGORIES:LiveMusik
ATTACH;FMTTYPE=image/jpeg:https://chrisinn.de/wp-content/uploads/2022/03/Ever.jpg
END:VEVENT
END:VCALENDAR